BEGIN:VCALENDAR
VERSION:2.0
PRODID:-//Fort-Paint - ECPv6.15.20//NONSGML v1.0//EN
CALSCALE:GREGORIAN
METHOD:PUBLISH
X-WR-CALNAME:Fort-Paint
X-ORIGINAL-URL:https://fort-paint.fr
X-WR-CALDESC:Events for Fort-Paint
REFRESH-INTERVAL;VALUE=DURATION:PT1H
X-Robots-Tag:noindex
X-PUBLISHED-TTL:PT1H
BEGIN:VTIMEZONE
TZID:UTC
BEGIN:STANDARD
TZOFFSETFROM:+0000
TZOFFSETTO:+0000
TZNAME:UTC
DTSTART:20240101T000000
END:STANDARD
END:VTIMEZONE
BEGIN:VEVENT
DTSTART;TZID=UTC:20250601T100000
DTEND;TZID=UTC:20270616T183000
DTSTAMP:20260422T011140
CREATED:20250624T121653Z
LAST-MODIFIED:20250625T092859Z
UID:6019-1748772000-1813170600@fort-paint.fr
SUMMARY:Junior wall climbing challenge
DESCRIPTION:Let the adventure begin with the Junior Wall Climbing Challenge! Perfect for energetic kids and beginners\, this event introduces basic bouldering techniques in a safe and supportive environment. Certified instructors will guide little climbers through colorful walls and fun obstacles to help build strength and confidence.
URL:https://fort-paint.fr/event/junior-wall-climbing-challenge/
LOCATION:The Glasshouse\, 660 12th Avenue\, New York\, NY\, 10019\, United States
CATEGORIES:Family
ORGANIZER;CN="Venture":MAILTO:example@organizer.com
END:VEVENT
END:VCALENDAR